BEGIN:VCALENDAR
VERSION:2.0
PRODID:-//BerglandHof Ernen - ECPv6.15.18//NONSGML v1.0//EN
CALSCALE:GREGORIAN
METHOD:PUBLISH
X-WR-CALNAME:BerglandHof Ernen
X-ORIGINAL-URL:https://www.berglandhof.ch
X-WR-CALDESC:Veranstaltungen für BerglandHof Ernen
REFRESH-INTERVAL;VALUE=DURATION:PT1H
X-Robots-Tag:noindex
X-PUBLISHED-TTL:PT1H
BEGIN:VTIMEZONE
TZID:Europe/Zurich
BEGIN:DAYLIGHT
TZOFFSETFROM:+0100
TZOFFSETTO:+0200
TZNAME:CEST
DTSTART:20240331T010000
END:DAYLIGHT
BEGIN:STANDARD
TZOFFSETFROM:+0200
TZOFFSETTO:+0100
TZNAME:CET
DTSTART:20241027T010000
END:STANDARD
BEGIN:DAYLIGHT
TZOFFSETFROM:+0100
TZOFFSETTO:+0200
TZNAME:CEST
DTSTART:20250330T010000
END:DAYLIGHT
BEGIN:STANDARD
TZOFFSETFROM:+0200
TZOFFSETTO:+0100
TZNAME:CET
DTSTART:20251026T010000
END:STANDARD
BEGIN:DAYLIGHT
TZOFFSETFROM:+0100
TZOFFSETTO:+0200
TZNAME:CEST
DTSTART:20260329T010000
END:DAYLIGHT
BEGIN:STANDARD
TZOFFSETFROM:+0200
TZOFFSETTO:+0100
TZNAME:CET
DTSTART:20261025T010000
END:STANDARD
BEGIN:DAYLIGHT
TZOFFSETFROM:+0100
TZOFFSETTO:+0200
TZNAME:CEST
DTSTART:20270328T010000
END:DAYLIGHT
BEGIN:STANDARD
TZOFFSETFROM:+0200
TZOFFSETTO:+0100
TZNAME:CET
DTSTART:20271031T010000
END:STANDARD
END:VTIMEZONE
BEGIN:VEVENT
DTSTART;VALUE=DATE:20251112
DTEND;VALUE=DATE:20261231
DTSTAMP:20260421T225512
CREATED:20251111T164806Z
LAST-MODIFIED:20260109T101742Z
UID:4633-1762905600-1798675199@www.berglandhof.ch
SUMMARY:Massage mit Astrid Gorsatt-Wenger jeden Mittwoch
DESCRIPTION:Jeden Mittwoch im BerglandHof\nEs ist gut\, im Jetzt zu sein\, sich dem Augenblick hinzugeben und zu entspannen. \nBelebende Sport Massagen\, Entspannungs Massagen\, traditionelle hawaiianische Ganzkörper Massage \nLomi Lomi\, Schröpfbehandlung\, Reiki und weitere Angebote. \nAstrid findet genau die richtige Massage für Sie! \nTag und Zeit\nJeden Mittwoch\, 08:00 Uhr bis 18:00 Uhr \nAnmeldung\nfrühzeitige Anmeldung erforderlich. \nMassagepraxis Schmetterling Fiesch 079 362 57 59 \noder BerglandHof 027 527 10 00 \n 
URL:https://www.berglandhof.ch/event/massage-mit-astrid-gorsatt-wenger/
LOCATION:BerglandHof Hotel Ernen\, Bieutistrasse\, Ernen\, 3995\, Schweiz
CATEGORIES:Gesundheit
END:VEVENT
BEGIN:VEVENT
DTSTART;VALUE=DATE:20251118
DTEND;VALUE=DATE:20261231
DTSTAMP:20260421T225512
CREATED:20251111T165015Z
LAST-MODIFIED:20260109T101709Z
UID:4635-1763424000-1798675199@www.berglandhof.ch
SUMMARY:TCM mit Madeleine Jaccard jeden Dienstag
DESCRIPTION:Akupunktur und Tuina-Massage\nEine wertvolle Unterstützung für Ihre Gesundheit! \nDie Ursprünge der chinesischen Medizin liegen über tausend Jahre vor unserer Zeitrechnung. Dieses ur-alte System entfaltet auch noch heute seine Wirkung und verschafft bei den verschiedensten Beschwerden Erleichterung. \nWeitere Informationen finden Sie auf tcm-jaccard.ch \nTag und Zeit\nJeden Dienstag\, 08:00 Uhr bis 18:00 Uhr \nAnmeldung\nMadeleine Jaccard\, dipl. Therapeutin TCM Akupunktur und Tuina Tel: 079 784 96 62\nMail: info@tcm-jaccard.ch / Web tcm-jaccard.ch \nPreis\nCHF 120.00 pro Stunde. Die Leistungen werden von vielen Zusatzversicherungen rückvergütet. Fragen Sie zur Sicherheit bei Ihrer Versicherung nach.
URL:https://www.berglandhof.ch/event/tcm-mit-madeleine-jaccard/
LOCATION:BerglandHof Hotel Ernen\, Bieutistrasse\, Ernen\, 3995\, Schweiz
CATEGORIES:Gesundheit
END:VEVENT
BEGIN:VEVENT
DTSTART;VALUE=DATE:20260529
DTEND;VALUE=DATE:20260601
DTSTAMP:20260421T225512
CREATED:20260109T102426Z
LAST-MODIFIED:20260114T103944Z
UID:4799-1780012800-1780271999@www.berglandhof.ch
SUMMARY:Yoga für das Nervensystem mit Barbara Dehm
DESCRIPTION:Kompaktkurs: 29. – 31.5.26 \nYoga für das Nervensystem richtet sich an Menschen\, die im Alltag schnell an ihre Grenzen stossen\, die Nerven verlieren oder Anzeichen von Stress in ihrem Körper wahrnehmen (Schlaf- und Verdauungsstörungen\, Nervosität\, Gereiztheit\, Erschöpfung\, Lustlosigkeit u.v.m.) \nYoga für das Nervensystem richtet sich auch an diejenigen\, die mehr darüber erfahren wollen\, wie Yoga auf unser Nervensystem wirkt und wie wir auf der Basis dieses Wissens lernen können\, bestimmte Yogaübungen gezielt einzusetzen\, um unser Nervensystem zu beruhigen\, anzuregen oder auszugleichen. \nUnd nicht zuletzt richtet sich dieses Angebot auch an Menschen\, die ihre eigenen eingeschliffenen Reaktionsmuster\, die vielleicht nicht immer adäquat sind\, zu verstehen und gegebenenfalls zu verändern. \nYoga für das Nervensystem ist ein Weg der Selbstbeobachtung\, Selbsterkenntnis und liebevollen Selbstakzeptanz. Achtsames und bewusstes Üben stehen im Zentrum. \nFlyer Barbara Dehm Ernen 2026 \n 
URL:https://www.berglandhof.ch/event/yoga-fuer-das-nervensystem-mit-barbara-dehm/
LOCATION:BerglandHof Hotel Ernen\, Bieutistrasse\, Ernen\, 3995\, Schweiz
CATEGORIES:Gesundheit,Lernen
ORGANIZER;CN="Barbara Dehm":MAILTO:barbara@musikundyoga.ch
END:VEVENT
BEGIN:VEVENT
DTSTART;VALUE=DATE:20260530
DTEND;VALUE=DATE:20260601
DTSTAMP:20260421T225512
CREATED:20260114T103646Z
LAST-MODIFIED:20260114T103646Z
UID:4806-1780099200-1780271999@www.berglandhof.ch
SUMMARY:Yoga für das Nervensystem mit Barbara Dehm
DESCRIPTION:Vertiefungskurs vom 30.5. / 31.5.26 \nYoga für das Nervensystem richtet sich an Menschen\, die im Alltag schnell an ihre Grenzen stossen\, die Nerven verlieren oder Anzeichen von Stress in ihrem Körper wahrnehmen (Schlaf- und Verdauungsstörungen\, Nervosität\, Gereiztheit\, Erschöpfung\, Lustlosigkeit u.v.m.) \nYoga für das Nervensystem richtet sich auch an diejenigen\, die mehr darüber erfahren wollen\, wie Yoga auf unser Nervensystem wirkt und wie wir auf der Basis dieses Wissens lernen können\, bestimmte Yogaübungen gezielt einzusetzen\, um unser Nervensystem zu beruhigen\, anzuregen oder auszugleichen. \nUnd nicht zuletzt richtet sich dieses Angebot auch an Menschen\, die ihre eigenen eingeschliffenen Reaktionsmuster\, die vielleicht nicht immer adäquat sind\, zu verstehen und gegebenenfalls zu verändern. \nYoga für das Nervensystem ist ein Weg der Selbstbeobachtung\, Selbsterkenntnis und liebevollen Selbstakzeptanz. Achtsames und bewusstes Üben stehen im Zentrum. \nFlyer Barbara Dehm Ernen 2026
URL:https://www.berglandhof.ch/event/yoga-fuer-das-nervensystem-mit-barbara-dehm-2/
LOCATION:BerglandHof Hotel Ernen\, Bieutistrasse\, Ernen\, 3995\, Schweiz
CATEGORIES:Gesundheit,Lernen
ORGANIZER;CN="Barbara Dehm":MAILTO:barbara@musikundyoga.ch
END:VEVENT
END:VCALENDAR