BEGIN:VCALENDAR
VERSION:2.0
PRODID:-//BerglandHof Ernen - ECPv6.15.18//NONSGML v1.0//EN
CALSCALE:GREGORIAN
METHOD:PUBLISH
X-WR-CALNAME:BerglandHof Ernen
X-ORIGINAL-URL:https://www.berglandhof.ch
X-WR-CALDESC:Veranstaltungen für BerglandHof Ernen
REFRESH-INTERVAL;VALUE=DURATION:PT1H
X-Robots-Tag:noindex
X-PUBLISHED-TTL:PT1H
BEGIN:VTIMEZONE
TZID:Europe/Zurich
BEGIN:DAYLIGHT
TZOFFSETFROM:+0100
TZOFFSETTO:+0200
TZNAME:CEST
DTSTART:20250330T010000
END:DAYLIGHT
BEGIN:STANDARD
TZOFFSETFROM:+0200
TZOFFSETTO:+0100
TZNAME:CET
DTSTART:20251026T010000
END:STANDARD
BEGIN:DAYLIGHT
TZOFFSETFROM:+0100
TZOFFSETTO:+0200
TZNAME:CEST
DTSTART:20260329T010000
END:DAYLIGHT
BEGIN:STANDARD
TZOFFSETFROM:+0200
TZOFFSETTO:+0100
TZNAME:CET
DTSTART:20261025T010000
END:STANDARD
BEGIN:DAYLIGHT
TZOFFSETFROM:+0100
TZOFFSETTO:+0200
TZNAME:CEST
DTSTART:20270328T010000
END:DAYLIGHT
BEGIN:STANDARD
TZOFFSETFROM:+0200
TZOFFSETTO:+0100
TZNAME:CET
DTSTART:20271031T010000
END:STANDARD
END:VTIMEZONE
BEGIN:VEVENT
DTSTART;TZID=Europe/Zurich:20260420T180000
DTEND;TZID=Europe/Zurich:20260420T193000
DTSTAMP:20260421T210148
CREATED:20260415T084606Z
LAST-MODIFIED:20260415T084606Z
UID:5049-1776708000-1776713400@www.berglandhof.ch
SUMMARY:Yoga mit Bittel Karin
DESCRIPTION:Zeit für Körper\, Geist und Seele \nYOGA ist die Reise zu dir selbst. durch achtsame Bewegungen und bewusste Atmung fördern wir die Einheit von Körper\, Geist und Seele. \nIn meinen kurzen biete ich dir einen Raum\, in dem du dich selbst besser kennenlernen\, innere Ruhe finden und deine persönliche Balance stärken kannst. \nEgal\, ob du Anfänger oder erfahrener Yogi bist – gemeinsam gestalten wir deinen individuellen yoga-weg. \nKontakt: \nBittel Karin \n078 708 08 85 / info@mountainbliss.ch \n 
URL:https://www.berglandhof.ch/event/yoga-mit-bittel-karin/
LOCATION:BerglandHof Hotel Ernen\, Bieutistrasse\, Ernen\, 3995\, Schweiz
CATEGORIES:Gesundheit,Lernen
END:VEVENT
BEGIN:VEVENT
DTSTART;TZID=Europe/Zurich:20260414T183000
DTEND;TZID=Europe/Zurich:20260414T194500
DTSTAMP:20260421T210148
CREATED:20260413T092446Z
LAST-MODIFIED:20260413T092446Z
UID:5040-1776191400-1776195900@www.berglandhof.ch
SUMMARY:Zeit\, wieder bei dir anzukommen
DESCRIPTION:In meiner Meditationsrunde findest du einen Ort der Ruhe – fern vom\nLärm des Alltags\, nah bei dir selbst. Ob du neu beginnen oder deine\nPraxis vertiefen möchtest: Gemeinsam tauchen wir ein in Achtsamkeit\,\nAtem und Präsenz. Wir aktivieren jeweils unsere sieben Chakren und\nberuhigen unser Nervensystem. \nAnmeldung unter: +41 76 433 17 86 \nClausen Sabrina \nFlyer Meditation  2026 \n  \n 
URL:https://www.berglandhof.ch/event/zeit-wieder-bei-dir-anzukommen/
LOCATION:BerglandHof Hotel Ernen\, Bieutistrasse\, Ernen\, 3995\, Schweiz
CATEGORIES:Gesundheit,Kultur,Lernen
END:VEVENT
BEGIN:VEVENT
DTSTART;TZID=Europe/Zurich:20260330T183000
DTEND;TZID=Europe/Zurich:20260330T193000
DTSTAMP:20260421T210148
CREATED:20260114T105412Z
LAST-MODIFIED:20260114T105412Z
UID:4821-1774895400-1774899000@www.berglandhof.ch
SUMMARY:Reiki Gruppen Session mit Clausen Sabrina
DESCRIPTION:Was dich erwartet\nEin geschützter Raum für Entspannung\nund bewusste Ausrichtung in einer kleinen Gruppe\nvon maximal 6 Teilnehmer*innen.\n– Kurzes Ankommen & persönliche Intention\n– Sanfte Reiki-Behandlung für die Gruppe\n– Zeit zum Nachspüren & Abschluss \nAnmeldung: \nMibina – Heilung & Balance \n076 433 17 86 \nChakra Meditation Clausen Sabrina flyer
URL:https://www.berglandhof.ch/event/reiki-gruppen-session-mit-clausen-sabrina-2/
LOCATION:BerglandHof Hotel Ernen\, Bieutistrasse\, Ernen\, 3995\, Schweiz
CATEGORIES:Gesundheit,Lernen
END:VEVENT
BEGIN:VEVENT
DTSTART;TZID=Europe/Zurich:20260316T183000
DTEND;TZID=Europe/Zurich:20260316T194500
DTSTAMP:20260421T210148
CREATED:20260114T105017Z
LAST-MODIFIED:20260114T105017Z
UID:4817-1773685800-1773690300@www.berglandhof.ch
SUMMARY:Chakra Meditation mit Clausen Sabrina
DESCRIPTION:In Balance kommen · Energie ins Fliessen bringen\nChakra Meditation \nIIn dieser geführten Chakra Meditation\nrichten wir die Aufmerksamkeit sanft\nauf die Energiezentren des Körpers.\nDurch bewusste Wahrnehmung\, Atem\nund achtsame Anleitung\ndarf innere Balance und Klarheit entstehen. \nAnmeldung:\nMibina – Heilung & Balance\n+41 76 433 17 86 |\nwww.mibina.ch \nChakra Meditation Clausen Sabrina flyer
URL:https://www.berglandhof.ch/event/chakra-meditation-mit-clausen-sabrina-3/
LOCATION:BerglandHof Hotel Ernen\, Bieutistrasse\, Ernen\, 3995\, Schweiz
CATEGORIES:Gesundheit,Lernen
END:VEVENT
BEGIN:VEVENT
DTSTART;TZID=Europe/Zurich:20260223T183000
DTEND;TZID=Europe/Zurich:20260223T193000
DTSTAMP:20260421T210148
CREATED:20260114T105259Z
LAST-MODIFIED:20260114T105259Z
UID:4819-1771871400-1771875000@www.berglandhof.ch
SUMMARY:Reiki Gruppen Session mit Clausen Sabrina
DESCRIPTION:Was dich erwartet\nEin geschützter Raum für Entspannung\nund bewusste Ausrichtung in einer kleinen Gruppe\nvon maximal 6 Teilnehmer*innen.\n– Kurzes Ankommen & persönliche Intention\n– Sanfte Reiki-Behandlung für die Gruppe\n– Zeit zum Nachspüren & Abschluss \nAnmeldung: \nMibina – Heilung & Balance \n076 433 17 86 \nChakra Meditation Clausen Sabrina flyer
URL:https://www.berglandhof.ch/event/reiki-gruppen-session-mit-clausen-sabrina/
LOCATION:BerglandHof Hotel Ernen\, Bieutistrasse\, Ernen\, 3995\, Schweiz
CATEGORIES:Gesundheit,Lernen
END:VEVENT
BEGIN:VEVENT
DTSTART;TZID=Europe/Zurich:20260218T183000
DTEND;TZID=Europe/Zurich:20260218T194500
DTSTAMP:20260421T210148
CREATED:20260114T104800Z
LAST-MODIFIED:20260114T104800Z
UID:4815-1771439400-1771443900@www.berglandhof.ch
SUMMARY:Chakra Meditation mit Clausen Sabrina
DESCRIPTION:In Balance kommen · Energie ins Fliessen bringen\nChakra Meditation \nIn dieser geführten Chakra Meditation\nrichten wir die Aufmerksamkeit sanft\nauf die Energiezentren des Körpers.\nDurch bewusste Wahrnehmung\, Atem\nund achtsame Anleitung\ndarf innere Balance und Klarheit entstehen. \nAnmeldung:\nMibina – Heilung & Balance\n+41 76 433 17 86 |\nwww.mibina.ch \nChakra Meditation Clausen Sabrina flyer
URL:https://www.berglandhof.ch/event/chakra-meditation-mit-clausen-sabrina-2/
LOCATION:BerglandHof Hotel Ernen\, Bieutistrasse\, Ernen\, 3995\, Schweiz
CATEGORIES:Gesundheit,Lernen
END:VEVENT
BEGIN:VEVENT
DTSTART;TZID=Europe/Zurich:20260122T183000
DTEND;TZID=Europe/Zurich:20260122T194500
DTSTAMP:20260421T210148
CREATED:20260114T104505Z
LAST-MODIFIED:20260114T104505Z
UID:4811-1769106600-1769111100@www.berglandhof.ch
SUMMARY:Chakra Meditation mit Clausen Sabrina
DESCRIPTION:In Balance kommen · Energie ins Fliessen bringen\nChakra Meditation \nIIn dieser geführten Chakra Meditation\nrichten wir die Aufmerksamkeit sanft\nauf die Energiezentren des Körpers.\nDurch bewusste Wahrnehmung\, Atem\nund achtsame Anleitung\ndarf innere Balance und Klarheit entstehen. \nAnmeldung:\nMibina – Heilung & Balance\n+41 76 433 17 86 |\nwww.mibina.ch \nChakra Meditation Clausen Sabrina flyer
URL:https://www.berglandhof.ch/event/chakra-meditation-mit-clausen-sabrina/
LOCATION:BerglandHof Hotel Ernen\, Bieutistrasse\, Ernen\, 3995\, Schweiz
CATEGORIES:Gesundheit
END:VEVENT
END:VCALENDAR